BEGIN:VCALENDAR
VERSION:2.0
PRODID:-//wp-events-plugin.com//7.2.3.1//EN
BEGIN:VEVENT
UID:12@oldschoolrocks.us
DTSTART;TZID=America/Chicago:20260626T190000
DTEND;TZID=America/Chicago:20260626T210000
DTSTAMP:20260418T163130Z
URL:https://www.oldschoolrocks.us/events/old-school-at-durty-nellies-2/
SUMMARY:Old School at Durty Nellie's
DESCRIPTION:Old School will be playing at Durty Nellie's on Friday\, June 2
 6th from 7 to 9PM
LOCATION:Durty Nellie's\, 180 N Smith St\, Palatine\, IL\, 60067\, United S
 tates
GEO:42.113688;-88.04926
X-APPLE-STRUCTURED-LOCATION;VALUE=URI;X-ADDRESS=180 N Smith St\, Palatine\,
  IL\, 60067\, United States;X-APPLE-RADIUS=100;X-TITLE=Durty Nellie's:geo:
 42.113688,-88.04926
END:VEVENT
BEGIN:VTIMEZONE
TZID:America/Chicago
X-LIC-LOCATION:America/Chicago
BEGIN:DAYLIGHT
DTSTART:20260308T030000
TZOFFSETFROM:-0600
TZOFFSETTO:-0500
TZNAME:CDT
END:DAYLIGHT
END:VTIMEZONE
END:VCALENDAR