BEGIN:VCALENDAR
VERSION:2.0
PRODID:-//wp-events-plugin.com//7.2.3.1//EN
BEGIN:VEVENT
UID:13@oldschoolrocks.us
DTSTART;TZID=America/Chicago:20260724T183000
DTEND;TZID=America/Chicago:20260724T202000
DTSTAMP:20260418T163007Z
URL:https://www.oldschoolrocks.us/events/old-school-at-mount-prospect-down
 town-block-party/
SUMMARY:Old School at Mount Prospect Downtown Block Party
DESCRIPTION:Old School will be playing at the Mount Prospect Downtown Block
  Party on Friday\, July 24th\, from 6:30 to 8:20PM.
LOCATION:Downtown Mount Prospect\, E Busse Ave &amp\; S Emerson St\, Mount 
 Prospect\, IL\, United States
GEO:42.064508;-87.935399
X-APPLE-STRUCTURED-LOCATION;VALUE=URI;X-ADDRESS=E Busse Ave & S Emerson St\
 , Mount Prospect\, IL\, United States;X-APPLE-RADIUS=100;X-TITLE=Downtown 
 Mount Prospect:geo:42.064508,-87.935399
END:VEVENT
BEGIN:VTIMEZONE
TZID:America/Chicago
X-LIC-LOCATION:America/Chicago
BEGIN:DAYLIGHT
DTSTART:20260308T030000
TZOFFSETFROM:-0600
TZOFFSETTO:-0500
TZNAME:CDT
END:DAYLIGHT
END:VTIMEZONE
END:VCALENDAR