BEGIN:VCALENDAR
VERSION:2.0
PRODID:-//wp-events-plugin.com//7.2.3.1//EN
BEGIN:VEVENT
UID:10@oldschoolrocks.us
DTSTART;TZID=America/Chicago:20251122T203000
DTEND;TZID=America/Chicago:20251122T230000
DTSTAMP:20251019T211540Z
URL:https://www.oldschoolrocks.us/events/old-school-at-station-34-november
 -22nd/
SUMMARY:Old School at Station 34 November 22nd
DESCRIPTION:Old School will be playing at Station 34 in Mount Prospect on N
 ovember 22nd from 8:30 to 11PM.
ATTACH;FMTTYPE=image/jpeg:https://www.oldschoolrocks.us/wp-content/uploads
 /2025/10/Nov-Station34-png.png
LOCATION:Station 34 Mount Prospect\, 34 S Main St\, Mount Prospect\, IL\, 6
 0056\, United States
GEO:42.064617;-87.936985
X-APPLE-STRUCTURED-LOCATION;VALUE=URI;X-ADDRESS=34 S Main St\, Mount Prospe
 ct\, IL\, 60056\, United States;X-APPLE-RADIUS=100;X-TITLE=Station 34 Moun
 t Prospect:geo:42.064617,-87.936985
END:VEVENT
BEGIN:VTIMEZONE
TZID:America/Chicago
X-LIC-LOCATION:America/Chicago
BEGIN:STANDARD
DTSTART:20251102T010000
TZOFFSETFROM:-0500
TZOFFSETTO:-0600
TZNAME:CST
END:STANDARD
END:VTIMEZONE
END:VCALENDAR